{"text_format":"1","workbook":"xlsx","n_sheets":5,"sheets":["TOP","申込書","選手アンケート","コーチアンケート","DB"],"not_rendered":{"charts":0,"images":0,"macros":1,"external_links":0,"defined_names":0,"comments":1,"pivot_tables":0},"unopened":[],"bounds":{"document_bytes":16777216,"sheet_cells":100000,"rows_first":2000,"rows_last":500,"rows_between":2000,"halvings":0,"cell_chars":16384,"cell_head_chars":4096},"cells_cut":0,"cells_raw":0,"read":"whole","date_system":"1900"}

{"sheet":"TOP","index":0,"n_rows":0,"n_cols":0,"rows_kept":0,"cut":false,"hidden":false,"merged":[[0,0,14,6]]}

{"sheet":"申込書","index":1,"n_rows":34,"n_cols":10,"rows_kept":34,"cut":false,"hidden":false,"merged":[[0,0,0,8],[3,0,4,0],[3,2,4,2],[3,5,4,5],[3,6,3,7],[4,6,4,7],[5,0,6,0],[5,2,6,2],[5,5,6,5],[5,6,5,7],[6,6,6,7],[7,0,8,0],[7,2,8,2],[7,5,8,5],[7,6,7,7],[8,6,8,7],[9,0,10,0],[9,2,10,2],[9,5,10,5],[9,6,9,7],[10,6,10,7],[11,0,12,0],[11,2,12,2],[11,5,12,5],[11,6,11,7],[12,6,12,7],[13,0,14,0],[13,2,14,2],[13,5,14,5],[13,6,13,7],[14,6,14,7],[15,0,16,0],[15,2,16,2],[15,5,16,5],[15,6,15,7],[16,6,16,7],[17,0,18,0],[17,2,18,2],[17,5,18,5],[17,6,17,7],[18,6,18,7],[19,0,20,0],[19,2,20,2],[19,5,20,5],[19,6,19,7],[20,6,20,7],[26,6,26,8],[27,2,28,2],[27,3,28,3],[27,4,28,4],[27,5,28,5],[27,6,28,8],[21,0,22,0],[21,2,22,2],[21,5,22,5],[21,6,21,7],[22,6,22,7],[23,0,24,0],[23,2,24,2],[23,5,24,5],[23,6,23,7],[24,6,24,7],[29,1,29,4],[29,5,29,8],[30,1,30,4],[30,5,30,8],[31,2,32,2],[31,3,32,3],[31,4,32,4],[31,5,32,5],[31,6,32,8],[33,1,33,4],[33,5,33,8],[34,1,34,4],[34,5,34,8],[38,0,39,0],[38,2,39,2],[38,5,39,5],[38,6,38,7],[39,6,39,7],[40,0,41,0],[40,2,41,2],[40,5,41,5],[40,6,40,7],[41,6,41,7],[42,0,43,0],[42,2,43,2],[42,5,43,5],[42,6,42,7],[43,6,43,7],[44,0,45,0],[44,2,45,2],[44,5,45,5],[44,6,44,7],[45,6,45,7],[46,0,47,0],[46,4,47,4],[46,5,47,5],[46,6,46,7],[47,6,47,7],[23,9,24,9],[13,9,14,9],[15,9,16,9],[17,9,18,9],[19,9,20,9],[21,9,22,9],[5,9,6,9],[7,9,8,9],[9,9,10,9],[11,9,12,9]]}
["２０１９年度　日本水泳連盟ジュニア強化対策事業北関東ブロックジュニア選手合宿　申込書"]
[null," 　　　　県"]
["１．参加選手"]
["№","フリガナ","所属 （略称）","学 校 名","性 別","種 　目","記　　録",null,"ナショナルタイム"]
[null,"選 手 氏 名",null,"生年月日","学 年",null,"選考大会",null,"達成率","DB"]
[1,null,null,null,"女子","400IM",null,null,{"$f":"IF(F6=\"\",\"\",VLOOKUP(J6,DB!$D$2:$E$176,2,0))","v":"00:04:48.470"},{"$f":"F6&E6&E7","v":"400IM女子中3"}]
[null,null,null,null,"中3",null,null,null,{"$f":"IF(G6=\"\",\"\",I6/G6)","v":""}]
[2,null,null,null,null,null,null,null,{"$f":"IF(F8=\"\",\"\",VLOOKUP(J8,DB!$D$2:$E$176,2,0))","v":""},{"$f":"F8&E8&E9","v":""}]
[null,null,null,null,null,null,null,null,{"$f":"IF(F8=\"\",\"\",I8/G8)","v":""}]
[3,null,null,null,null,null,null,null,{"$f":"IF(F10=\"\",\"\",VLOOKUP(J10,DB!$D$2:$E$176,2,0))","v":""},{"$f":"F10&E10&E11","v":""}]
[null,null,null,null,null,null,null,null,{"$f":"IF(F10=\"\",\"\",I10/G10)","v":""}]
[4,null,null,null,null,null,null,null,{"$f":"IF(F12=\"\",\"\",VLOOKUP(J12,DB!$D$2:$E$176,2,0))","v":""},{"$f":"F12&E12&E13","v":""}]
[null,null,null,null,null,null,null,null,{"$f":"IF(F12=\"\",\"\",I12/G12)","v":""}]
[5,null,null,null,null,null,null,null,{"$f":"IF(F14=\"\",\"\",VLOOKUP(J14,DB!$D$2:$E$176,2,0))","v":""},{"$f":"F14&E14&E15","v":""}]
[null,null,null,null,null,null,null,null,{"$f":"IF(F14=\"\",\"\",I14/G14)","v":""}]
[6,null,null,null,null,null,null,null,{"$f":"IF(F16=\"\",\"\",VLOOKUP(J16,DB!$D$2:$E$176,2,0))","v":""},{"$f":"F16&E16&E17","v":""}]
[null,null,null,null,null,null,null,null,{"$f":"IF(F16=\"\",\"\",I16/G16)","v":""}]
[7,null,null,null,null,null,null,null,{"$f":"IF(F18=\"\",\"\",VLOOKUP(J18,DB!$D$2:$E$176,2,0))","v":""},{"$f":"F18&E18&E19","v":""}]
[null,null,null,null,null,null,null,null,{"$f":"IF(F18=\"\",\"\",I18/G18)","v":""}]
[8,null,null,null,null,null,null,null,{"$f":"IF(F20=\"\",\"\",VLOOKUP(J20,DB!$D$2:$E$176,2,0))","v":""},{"$f":"F20&E20&E21","v":""}]
[null,null,null,null,null,null,null,null,{"$f":"IF(F20=\"\",\"\",I20/G20)","v":""}]
[9,null,null,null,null,null,null,null,{"$f":"IF(F22=\"\",\"\",VLOOKUP(J22,DB!$D$2:$E$176,2,0))","v":""},{"$f":"F22&E22&E23","v":""}]
[null,null,null,null,null,null,null,null,{"$f":"IF(F22=\"\",\"\",I22/G22)","v":""}]
[10,null,null,null,null,null,null,null,{"$f":"IF(F24=\"\",\"\",VLOOKUP(J24,DB!$D$2:$E$176,2,0))","v":""},{"$f":"F24&E24&E25","v":""}]
[null,null,null,null,null,null,null,null,{"$f":"IF(F24=\"\",\"\",I24/G24)","v":""}]
["２．引率コーチ名"]
[null,"コーチ名","所　　属","生 年 月 日","年 齢","担当 希望","コーチ資格　登録番号"]
["フリガナ",null,null,null,{"$f":"IF(D28=\"\",\"\",TODAY()-D28)","v":""}]
[1]
[null,"連　　絡　　先　　／　　携帯電話",null,null,null,"Ｅ－Mail アドレス"]
[]
["フリガナ",null,null,null,{"$f":"IF(D32=\"\",\"\",TODAY()-D32)","v":""}]
[2]
[null,"連　　絡　　先　　／　　携帯電話",null,null,null,"Ｅ－Mail アドレス"]

{"sheet":"選手アンケート","index":2,"n_rows":26,"n_cols":17,"rows_kept":26,"cut":false,"hidden":false,"merged":[[2,0,2,10],[3,0,3,10],[0,0,0,14]]}
["２０１９年度　日本水泳連盟ジュニア強化対策事業北関東ブロックジュニア選手合宿　申込書"]
[null," 　　　　県"]
["１．参加選手"]
["選手に関するアンケート"]
["№","選 手 氏 名","フリガナ","性 別","生年月日","所属 （略称）","学 校 名","学年","種 　目","記　　録","選考大会","ﾅｼｮﾅﾙﾀｲﾑ","達成率","合宿/遠征参加希望","ナショナル/海外遠征の経験"]
["例","伊倉　章好","ｲｸﾗ ｱｷﾖｼ","男子","1977-12-19","スウィン大教","日大桜ケ丘高校","高2","1500Fr","00:15:59","県新人戦",{"$f":"IF(I6=\"\",\"\",VLOOKUP(Q6,DB!$D$2:$E$163,2,0))","v":"00:15:32.560"},{"$f":"IF(J6=\"\",\"\",L6/J6)","v":0.97242961418143903},"合宿参加希望する/遠征参加希望する","有",null,{"$f":"I6&D6&H6","v":"1500Fr男子高2"}]
[1,null,null,null,null,null,null,null,null,null,null,{"$f":"IF(I7=\"\",\"\",VLOOKUP(Q7,DB!$D$2:$E$163,2,0))","v":""},{"$f":"IF(J7=\"\",\"\",L7/J7)","v":""},null,null,null,{"$f":"I7&D7&H7","v":""}]
[2,null,null,null,null,null,null,null,null,null,null,{"$f":"IF(I8=\"\",\"\",VLOOKUP(Q8,DB!$D$2:$E$163,2,0))","v":""},{"$f":"IF(J8=\"\",\"\",L8/J8)","v":""},null,null,null,""]
[3,null,null,null,null,null,null,null,null,null,null,{"$f":"IF(I9=\"\",\"\",VLOOKUP(Q9,DB!$D$2:$E$163,2,0))","v":""},"",null,null,null,""]
[4,null,null,null,null,null,null,null,null,null,null,{"$f":"IF(I10=\"\",\"\",VLOOKUP(Q10,DB!$D$2:$E$163,2,0))","v":""},"",null,null,null,""]
[5,null,null,null,null,null,null,null,null,null,null,{"$f":"IF(I11=\"\",\"\",VLOOKUP(Q11,DB!$D$2:$E$163,2,0))","v":""},"",null,null,null,""]
[6,null,null,null,null,null,null,null,null,null,null,{"$f":"IF(I12=\"\",\"\",VLOOKUP(Q12,DB!$D$2:$E$163,2,0))","v":""},"",null,null,null,""]
[7,null,null,null,null,null,null,null,null,null,null,{"$f":"IF(I13=\"\",\"\",VLOOKUP(Q13,DB!$D$2:$E$163,2,0))","v":""},"",null,null,null,""]
[8,null,null,null,null,null,null,null,null,null,null,{"$f":"IF(I14=\"\",\"\",VLOOKUP(Q14,DB!$D$2:$E$163,2,0))","v":""},"",null,null,null,""]
[9,null,null,null,null,null,null,null,null,null,null,{"$f":"IF(I15=\"\",\"\",VLOOKUP(Q15,DB!$D$2:$E$163,2,0))","v":""},"",null,null,null,""]
[10,null,null,null,null,null,null,null,null,null,null,{"$f":"IF(I16=\"\",\"\",VLOOKUP(Q16,DB!$D$2:$E$163,2,0))","v":""},"",null,null,null,""]
[11,null,null,null,null,null,null,null,null,null,null,{"$f":"IF(I17=\"\",\"\",VLOOKUP(Q17,DB!$D$2:$E$163,2,0))","v":""},"",null,null,null,""]
[12,null,null,null,null,null,null,null,null,null,null,{"$f":"IF(I18=\"\",\"\",VLOOKUP(Q18,DB!$D$2:$E$163,2,0))","v":""},"",null,null,null,""]
[13,null,null,null,null,null,null,null,null,null,null,{"$f":"IF(I19=\"\",\"\",VLOOKUP(Q19,DB!$D$2:$E$163,2,0))","v":""},"",null,null,null,""]
[14,null,null,null,null,null,null,null,null,null,null,{"$f":"IF(I20=\"\",\"\",VLOOKUP(Q20,DB!$D$2:$E$163,2,0))","v":""},"",null,null,null,""]
[15,null,null,null,null,null,null,null,null,null,null,{"$f":"IF(I21=\"\",\"\",VLOOKUP(Q21,DB!$D$2:$E$163,2,0))","v":""},"",null,null,null,""]
[16,null,null,null,null,null,null,null,null,null,null,{"$f":"IF(I22=\"\",\"\",VLOOKUP(Q22,DB!$D$2:$E$163,2,0))","v":""},"",null,null,null,""]
[17,null,null,null,null,null,null,null,null,null,null,{"$f":"IF(I23=\"\",\"\",VLOOKUP(Q23,DB!$D$2:$E$163,2,0))","v":""},"",null,null,null,""]
[18,null,null,null,null,null,null,null,null,null,null,{"$f":"IF(I24=\"\",\"\",VLOOKUP(Q24,DB!$D$2:$E$163,2,0))","v":""},"",null,null,null,""]
[19,null,null,null,null,null,null,null,null,null,null,{"$f":"IF(I25=\"\",\"\",VLOOKUP(Q25,DB!$D$2:$E$163,2,0))","v":""},{"$f":"IF(J25=\"\",\"\",L25/J25)","v":""}]
[20,null,null,null,null,null,null,null,null,null,null,{"$f":"IF(I26=\"\",\"\",VLOOKUP(Q26,DB!$D$2:$E$163,2,0))","v":""},""]

{"sheet":"コーチアンケート","index":3,"n_rows":24,"n_cols":13,"rows_kept":24,"cut":false,"hidden":false,"merged":[[1,0,1,12]]}
[]
["コーチアンケート"]
[null,null,null,null,null,null,null,null,null,null,"－を入れてください","－を入れてください"]
["No","選手名","コーチ名","所属","生年月日","年齢","合宿参加希望","遠征参加希望","コーチ資格","登録番号","勤務先連絡番号","携帯電話番号","E-Mail アドレス"]
[1,{"$f":"IF(選手アンケート!B7=\"\",\"\",選手アンケート!B7)","v":""}]
[2,{"$f":"IF(選手アンケート!B8=\"\",\"\",選手アンケート!B8)","v":""}]
[3,{"$f":"IF(選手アンケート!B9=\"\",\"\",選手アンケート!B9)","v":""}]
[4,{"$f":"IF(選手アンケート!B10=\"\",\"\",選手アンケート!B10)","v":""}]
[5,{"$f":"IF(選手アンケート!B11=\"\",\"\",選手アンケート!B11)","v":""}]
[6,{"$f":"IF(選手アンケート!B12=\"\",\"\",選手アンケート!B12)","v":""}]
[7,{"$f":"IF(選手アンケート!B13=\"\",\"\",選手アンケート!B13)","v":""}]
[8,{"$f":"IF(選手アンケート!B14=\"\",\"\",選手アンケート!B14)","v":""}]
[9,{"$f":"IF(選手アンケート!B15=\"\",\"\",選手アンケート!B15)","v":""}]
[10,{"$f":"IF(選手アンケート!B16=\"\",\"\",選手アンケート!B16)","v":""}]
[11,{"$f":"IF(選手アンケート!B17=\"\",\"\",選手アンケート!B17)","v":""}]
[12,{"$f":"IF(選手アンケート!B18=\"\",\"\",選手アンケート!B18)","v":""}]
[13,{"$f":"IF(選手アンケート!B19=\"\",\"\",選手アンケート!B19)","v":""}]
[14,{"$f":"IF(選手アンケート!B20=\"\",\"\",選手アンケート!B20)","v":""}]
[15,{"$f":"IF(選手アンケート!B21=\"\",\"\",選手アンケート!B21)","v":""}]
[16,{"$f":"IF(選手アンケート!B22=\"\",\"\",選手アンケート!B22)","v":""}]
[17,{"$f":"IF(選手アンケート!B23=\"\",\"\",選手アンケート!B23)","v":""}]
[18,{"$f":"IF(選手アンケート!B24=\"\",\"\",選手アンケート!B24)","v":""}]
[19,{"$f":"IF(選手アンケート!B25=\"\",\"\",選手アンケート!B25)","v":""}]
[20,{"$f":"IF(選手アンケート!B26=\"\",\"\",選手アンケート!B26)","v":""}]

{"sheet":"DB","index":4,"n_rows":169,"n_cols":10,"rows_kept":169,"cut":false,"hidden":false,"merged":[]}
["style","sex","class","kigou","Time","性別DB","学年DB ","種目DB","合宿遠征DB","経験DB"]
["50Fr","男子","中1",{"$f":"A2&B2&C2","v":"50Fr男子中1"},"00:00:25.120","男子","中1","50Fr","合宿参加希望する/遠征参加希望する","有"]
["50Fr","男子","中2",{"$f":"A3&B3&C3","v":"50Fr男子中2"},"00:00:24.450","女子","中2","100Fr","合宿参加希望する/遠征参加希望しない","無"]
["50Fr","男子","中3","50Fr男子中3","00:00:24",null,"中3","200Fr"]
["50Fr","男子","高1","50Fr男子高1","00:00:23.410",null,"高1","400Fr"]
["50Fr","男子","高2","50Fr男子高2","00:00:23.330",null,"高2","800Fr"]
["50Fr","男子","高3","50Fr男子高3","00:00:23.110",null,"高3","1500Fr"]
["50Fr","女子","中1","50Fr女子中1","00:00:27.070",null,null,"100Bc"]
["50Fr","女子","中2","50Fr女子中2","00:00:26.560",null,null,"200Bc"]
["50Fr","女子","中3","50Fr女子中3","00:00:26.310",null,null,"100Br"]
["50Fr","女子","高1","50Fr女子高1","00:00:26.190",null,null,"200Br"]
["50Fr","女子","高2","50Fr女子高2","00:00:26.060",null,null,"100Fly"]
["50Fr","女子","高3","50Fr女子高3","00:00:25.940",null,null,"200Fly"]
["100Fr","男子","中1","100Fr男子中1","00:00:54.790",null,null,"200IM"]
["100Fr","男子","中2","100Fr男子中2","00:00:53.320",null,null,"400IM"]
["100Fr","男子","中3","100Fr男子中3","00:00:52.340"]
["100Fr","男子","高1","100Fr男子高1","00:00:51.370"]
["100Fr","男子","高2","100Fr男子高2","00:00:50.880"]
["100Fr","男子","高3","100Fr男子高3","00:00:50.390"]
["100Fr","女子","中1","100Fr女子中1","00:00:59.070"]
["100Fr","女子","中2","100Fr女子中2","00:00:57.970"]
["100Fr","女子","中3","100Fr女子中3","00:00:57.420"]
["100Fr","女子","高1","100Fr女子高1","00:00:57.150"]
["100Fr","女子","高2","100Fr女子高2","00:00:56.870"]
["100Fr","女子","高3","100Fr女子高3","00:00:56.400"]
["200Fr","男子","中1","200Fr男子中1","00:02:00"]
["200Fr","男子","中2","200Fr男子中2","00:01:56.760"]
["200Fr","男子","中3","200Fr男子中3","00:01:54.600"]
["200Fr","男子","高1","200Fr男子高1","00:01:52.430"]
["200Fr","男子","高2","200Fr男子高2","00:01:51.350"]
["200Fr","男子","高3","200Fr男子高3","00:01:50.270"]
["200Fr","女子","中1","200Fr女子中1","00:02:06.270"]
["200Fr","女子","中2","200Fr女子中2","00:02:03.880"]
["200Fr","女子","中3","200Fr女子中3","00:02:02.690"]
["200Fr","女子","高1","200Fr女子高1","00:02:02.100"]
["200Fr","女子","高2","200Fr女子高2","00:02:01.500"]
["200Fr","女子","高3","200Fr女子高3","00:02:00.910"]
["400Fr","男子","中1","400Fr男子中1","00:04:12.570"]
["400Fr","男子","中2","400Fr男子中2","00:04:05.270"]
["400Fr","男子","中3","400Fr男子中3","00:04:01.710"]
["400Fr","男子","高1","400Fr男子高1","00:03:57.140"]
["400Fr","男子","高2","400Fr男子高2","00:03:54.860"]
["400Fr","男子","高3","400Fr男子高3","00:03:52.570"]
["400Fr","女子","中1","400Fr女子中1","00:04:23.700"]
["400Fr","女子","中2","400Fr女子中2","00:04:19.960"]
["400Fr","女子","中3","400Fr女子中3","00:04:17.460"]
["400Fr","女子","高1","400Fr女子高1","00:04:16.220"]
["400Fr","女子","高2","400Fr女子高2","00:04:14.970"]
["400Fr","女子","高3","400Fr女子高3","00:04:12.600"]
["800Fr","男子","中1",{"$f":"A50&B50&C50","v":"800Fr男子中1"},"00:08:43.080"]
["800Fr","男子","中2","800Fr男子中2","00:08:30.070"]
["800Fr","男子","中3","800Fr男子中3","00:08:20.600"]
["800Fr","男子","高1","800Fr男子高1","00:08:11.130"]
["800Fr","男子","高2","800Fr男子高2","00:08:06.400"]
["800Fr","男子","高3","800Fr男子高3","00:08:01.660"]
["1500Fr","男子","中1","1500Fr男子中1","00:16:43.940"]
["1500Fr","男子","中2","1500Fr男子中2","00:16:18.950"]
["1500Fr","男子","中3","1500Fr男子中3","00:15:59.600"]
["1500Fr","男子","高1","1500Fr男子高1","00:15:42.610"]
["1500Fr","男子","高2","1500Fr男子高2","00:15:32.560"]
["1500Fr","男子","高3","1500Fr男子高3","00:15:24.440"]
["800Fr","女子","中1","800Fr女子中1","00:09:01.580"]
["800Fr","女子","中2","800Fr女子中2","00:08:51.380"]
["800Fr","女子","中3","800Fr女子中3","00:08:46.290"]
["800Fr","女子","高1","800Fr女子高1","00:08:43.740"]
["800Fr","女子","高2","800Fr女子高2","00:08:41.190"]
["800Fr","女子","高3","800Fr女子高3","00:08:36.350"]
["100Bc","男子","中1","100Bc男子中1","00:01:00.610"]
["100Bc","男子","中2","100Bc男子中2","00:00:58.990"]
["100Bc","男子","中3","100Bc男子中3","00:00:57.910"]
["100Bc","男子","高1","100Bc男子高1","00:00:56.830"]
["100Bc","男子","高2","100Bc男子高2","00:00:56.280"]
["100Bc","男子","高3",{"$f":"A73&B73&C73","v":"100Bc男子高3"},"00:00:55.740"]
["100Bc","女子","中1","100Bc女子中1","00:01:04.360"]
["100Bc","女子","中2","100Bc女子中2","00:01:03.150"]
["100Bc","女子","中3","100Bc女子中3","00:01:02.550"]
["100Bc","女子","高1","100Bc女子高1","00:01:02.240"]
["100Bc","女子","高2","100Bc女子高2","00:01:01.940"]
["100Bc","女子","高3","100Bc女子高3","00:01:01.640"]
["200Bc","男子","中1","200Bc男子中1","00:02:11.320"]
["200Bc","男子","中2","200Bc男子中2","00:02:07.790"]
["200Bc","男子","中3","200Bc男子中3","00:02:05.440"]
["200Bc","男子","高1","200Bc男子高1","00:02:03.080"]
["200Bc","男子","高2","200Bc男子高2","00:02:01.900"]
["200Bc","男子","高3","200Bc男子高3","00:02:00.720"]
["200Bc","女子","中1","200Bc女子中1","00:02:17.830"]
["200Bc","女子","中2","200Bc女子中2","00:02:15.230"]
["200Bc","女子","中3","200Bc女子中3","00:02:13.930"]
["200Bc","女子","高1","200Bc女子高1","00:02:13.280"]
["200Bc","女子","高2","200Bc女子高2","00:02:12.630"]
["200Bc","女子","高3","200Bc女子高3","00:02:11.980"]
["100Br","男子","中1","100Br男子中1","00:01:07.570"]
["100Br","男子","中2","100Br男子中2","00:01:05.750"]
["100Br","男子","中3","100Br男子中3","00:01:04.540"]
["100Br","男子","高1","100Br男子高1","00:01:03.330"]
["100Br","男子","高2","100Br男子高2","00:01:02.720"]
["100Br","男子","高3","100Br男子高3","00:01:02.120"]
["100Br","女子","中1","100Br女子中1","00:01:11.340"]
["100Br","女子","中2","100Br女子中2","00:01:11.030"]
["100Br","女子","中3","100Br女子中3","00:01:10.350"]
["100Br","女子","高1","100Br女子高1","00:01:10.010"]
["100Br","女子","高2","100Br女子高2","00:01:09.670"]
["100Br","女子","高3","100Br女子高3","00:01:09.330"]
["200Br","男子","中1","200Br男子中1","00:02:25.640"]
["200Br","男子","中2","200Br男子中2","00:02:21.030"]
["200Br","男子","中3","200Br男子中3","00:02:19.080"]
["200Br","男子","高1","200Br男子高1","00:02:15.580"]
["200Br","男子","高2","200Br男子高2","00:02:15.150"]
["200Br","男子","高3","200Br男子高3","00:02:13.830"]
["200Br","女子","中1","200Br女子中1","00:02:33.850"]
["200Br","女子","中2","200Br女子中2","00:02:32.500"]
["200Br","女子","中3","200Br女子中3","00:02:31.030"]
["200Br","女子","高1","200Br女子高1","00:02:30.300"]
["200Br","女子","高2","200Br女子高2","00:02:29.560"]
["100Fly","女子","高3","100Fly女子高3","00:02:28.830"]
["100Fly","男子","中1","100Fly男子中1","00:00:58.230"]
["100Fly","男子","中2","100Fly男子中2","00:00:56.660"]
["100Fly","男子","中3","100Fly男子中3","00:00:55.610"]
["100Fly","男子","高1","100Fly男子高1","00:00:54.570"]
["100Fly","男子","高2","100Fly男子高2","00:00:54.050"]
["100Fly","男子","高3","100Fly男子高3","00:00:53.530"]
["100Fly","女子","中1","100Fly女子中1","00:00:52.320"]
["100Fly","女子","中2","100Fly女子中2","00:01:01.230"]
["100Fly","女子","中3","100Fly女子中3","00:01:00.640"]
["100Fly","女子","高1","100Fly女子高1","00:01:00.350"]
["100Fly","女子","高2","100Fly女子高2","00:01:00.020"]
["100Fly","女子","高3","100Fly女子高3","00:00:59.760"]
["200Fly","男子","中1","200Fly男子中1","00:02:09.670"]
["200Fly","男子","中2","200Fly男子中2","00:02:06.170"]
["200Fly","男子","中3","200Fly男子中3","00:02:03.830"]
["200Fly","男子","高1","200Fly男子高1","00:02:01.490"]
["200Fly","男子","高2","200Fly男子高2","00:02:00.320"]
["200Fly","男子","高3","200Fly男子高3","00:01:59.160"]
["200Fly","女子","中1","200Fly女子中1","00:02:16.990"]
["200Fly","女子","中2","200Fly女子中2","00:02:14.410"]
["200Fly","女子","中3","200Fly女子中3","00:02:13.120"]
["200Fly","女子","高1",{"$f":"A137&B137&C137","v":"200Fly女子高1"},"00:02:12.470"]
["200Fly","女子","高2","200Fly女子高2","00:02:11.550"]
["200Fly","女子","高3","200Fly女子高3","00:02:11.180"]
["200IM","男子","中1","200IM男子中1","00:02:12.660"]
["200IM","男子","中2","200IM男子中2","00:02:08.580"]
["200IM","男子","中3","200IM男子中3","00:02:06.680"]
["200IM","男子","高1","200IM男子高1","00:02:04.290"]
["200IM","男子","高2","200IM男子高2","00:02:03.100"]
["200IM","男子","高3","200IM男子高3","00:02:01.900"]
["200IM","女子","中1","200IM女子中1","00:02:21.120"]
["200IM","女子","中2","200IM女子中2","00:02:18.460"]
["200IM","女子","中3","200IM女子中3","00:02:17.120"]
["200IM","女子","高1","200IM女子高1","00:02:16.460"]
["200IM","女子","高2","200IM女子高2","00:02:15.790"]
["200IM","女子","高3","200IM女子高3","00:02:15.130"]
["400IM","男子","中1","400IM男子中1","00:04:42.960"]
["400IM","男子","中2","400IM男子中2","00:04:33.900"]
["400IM","男子","中3","400IM男子中3","00:04:30.790"]
["400IM","男子","高1","400IM男子高1","00:04:25.670"]
["400IM","男子","高2","400IM男子高2","00:04:23.110"]
["400IM","男子","高3","400IM男子高3","00:04:20.550"]
["400IM","女子","中1","400IM女子中1","00:04:56.890"]
["400IM","女子","中2","400IM女子中2","00:04:51.280"]
["400IM","女子","中3","400IM女子中3","00:04:48.470"]
["400IM","女子","高1","400IM女子高1","00:04:47.070"]
["400IM","女子","高2","400IM女子高2","00:04:45.660"]
["400IM","女子","高3","400IM女子高3","00:04:40.990"]
["1500Fr","女子","中1","1500Fr女子中1","00:17:24.760"]
["1500Fr","女子","中2","1500Fr女子中2","00:17:05.090"]
["1500Fr","女子","中3","1500Fr女子中3","00:16:55.260"]
["1500Fr","女子","高1","1500Fr女子高1","00:16:50.340"]
["1500Fr","女子","高2","1500Fr女子高2","00:16:45.420"]
["1500Fr","女子","高3","1500Fr女子高3","00:16:36.080"]